BEGIN:VCALENDAR
VERSION:2.0
PRODID:-//RIGHTHERE//CALENDARIZE IT V3.2//EN
BEGIN:VTIMEZONE
TZID:Europe/Rome
BEGIN:STANDARD
DTSTART:20251026T010000
TZOFFSETFROM:+0200
TZOFFSETTO:+0100
TZNAME:CET
END:STANDARD
BEGIN:DAYLIGHT
DTSTART:20260329T010000
TZOFFSETFROM:+0100
TZOFFSETTO:+0200
TZNAME:CEST
END:DAYLIGHT
BEGIN:STANDARD
DTSTART:20261025T010000
TZOFFSETFROM:+0200
TZOFFSETTO:+0100
TZNAME:CET
END:STANDARD
END:VTIMEZONE
BEGIN:VEVENT
UID:4307-events@fvg.federmanager.it
DTSTART;TZID=Europe/Rome:20210202T180000
DTEND;TZID=Europe/Rome:20210202T193000
DTSTAMP;TZID=Europe/Rome:20210120T113625
SUMMARY:WEBINAR “Le novità del FASI 2021”
URL:https://fvg.federmanager.it/events/webinar-le-novita-del-fasi-2021/
ORGANIZER;CN=FASI:
LOCATION:Webinar
END:VEVENT
END:VCALENDAR