BEGIN:VCALENDAR
VERSION:2.0
PRODID:-//RIGHTHERE//CALENDARIZE IT V3.2//EN
BEGIN:VTIMEZONE
TZID:Europe/Rome
BEGIN:STANDARD
DTSTART:20251026T010000
TZOFFSETFROM:+0200
TZOFFSETTO:+0100
TZNAME:CET
END:STANDARD
BEGIN:DAYLIGHT
DTSTART:20260329T010000
TZOFFSETFROM:+0100
TZOFFSETTO:+0200
TZNAME:CEST
END:DAYLIGHT
BEGIN:STANDARD
DTSTART:20261025T010000
TZOFFSETFROM:+0200
TZOFFSETTO:+0100
TZNAME:CET
END:STANDARD
END:VTIMEZONE
BEGIN:VEVENT
UID:7200-events@fvg.federmanager.it
DTSTART;VALUE=DATE:20260702
DTEND;VALUE=DATE:20260702
DTSTAMP;TZID=Europe/Rome:20260420T092400
SUMMARY:SAVE THE DATE: Forum Roma – “CONNESSI PER CRESCERE”
URL:https://fvg.federmanager.it/events/save-the-date-forum-roma-connessi-pe
 r-crescere/
END:VEVENT
END:VCALENDAR